BEGIN:VCALENDAR
VERSION:2.0
PRODID:-//LaRue County Public Library - ECPv6.15.20//NONSGML v1.0//EN
CALSCALE:GREGORIAN
METHOD:PUBLISH
X-WR-CALNAME:LaRue County Public Library
X-ORIGINAL-URL:https://www.laruelibrary.org
X-WR-CALDESC:Events for LaRue County Public Library
REFRESH-INTERVAL;VALUE=DURATION:PT1H
X-Robots-Tag:noindex
X-PUBLISHED-TTL:PT1H
BEGIN:VTIMEZONE
TZID:America/Kentucky/Louisville
BEGIN:DAYLIGHT
TZOFFSETFROM:-0500
TZOFFSETTO:-0400
TZNAME:EDT
DTSTART:20240310T070000
END:DAYLIGHT
BEGIN:STANDARD
TZOFFSETFROM:-0400
TZOFFSETTO:-0500
TZNAME:EST
DTSTART:20241103T060000
END:STANDARD
BEGIN:DAYLIGHT
TZOFFSETFROM:-0500
TZOFFSETTO:-0400
TZNAME:EDT
DTSTART:20250309T070000
END:DAYLIGHT
BEGIN:STANDARD
TZOFFSETFROM:-0400
TZOFFSETTO:-0500
TZNAME:EST
DTSTART:20251102T060000
END:STANDARD
BEGIN:DAYLIGHT
TZOFFSETFROM:-0500
TZOFFSETTO:-0400
TZNAME:EDT
DTSTART:20260308T070000
END:DAYLIGHT
BEGIN:STANDARD
TZOFFSETFROM:-0400
TZOFFSETTO:-0500
TZNAME:EST
DTSTART:20261101T060000
END:STANDARD
END:VTIMEZONE
BEGIN:VEVENT
DTSTART;TZID=America/Kentucky/Louisville:20250602T103000
DTEND;TZID=America/Kentucky/Louisville:20250602T103000
DTSTAMP:20260425T001029
CREATED:20250315T135426Z
LAST-MODIFIED:20250315T141221Z
UID:10001773-1748860200-1748860200@www.laruelibrary.org
SUMMARY:Wits Workout
DESCRIPTION:Did you know that social connectedness and intellectual engagement are two lifestyle factors that contribute to your brain’s health? \nSimply put\, coming together and learning new things is good for you and your brain! \nJoin the Wits Workout Group\, where you’ll engage in all kinds of interactive puzzles and games and learn what you can do in your daily life to keep your brain healthy! \nThis program is for adults only\, and no sign up is required. Join us every other Monday in April\, May\, and June at 10:30 AM. (April 7 & 21\, May 5 & 19\, June 2\, 16 & 30).
URL:https://www.laruelibrary.org/event/7577/2025-06-02/
LOCATION:LaRue County Public Library\, 215 Lincoln Drive\, Hodgenville\, KY\, 42748\, United States
CATEGORIES:Adult,Adult Events
ATTACH;FMTTYPE=image/png:https://www.laruelibrary.org/wp-content/uploads/2025/03/Wits-Workout.png
END:VEVENT
BEGIN:VEVENT
DTSTART;TZID=America/Kentucky/Louisville:20250603T110000
DTEND;TZID=America/Kentucky/Louisville:20250603T110000
DTSTAMP:20260425T001029
CREATED:20250517T141809Z
LAST-MODIFIED:20250517T141809Z
UID:10001887-1748948400-1748948400@www.laruelibrary.org
SUMMARY:Story Time
DESCRIPTION:Join us for Story Time at the library—perfect for children under the age of 5! Each session includes stories\, songs\, and fun activities that help build early literacy and social skills. Come share the joy of reading with your little ones in a playful\, welcoming environment. Join us on Tuesdays at 11 AM or Thursdays at 1:30 PM!
URL:https://www.laruelibrary.org/event/story-time-121/2025-06-03/
LOCATION:LaRue County Public Library\, 215 Lincoln Drive\, Hodgenville\, KY\, 42748\, United States
CATEGORIES:Age Under 5 Years Old,Youth Events
ATTACH;FMTTYPE=image/png:https://www.laruelibrary.org/wp-content/uploads/2023/10/NST.0-1.png
END:VEVENT
BEGIN:VEVENT
DTSTART;TZID=America/Kentucky/Louisville:20250604T110000
DTEND;TZID=America/Kentucky/Louisville:20250604T120000
DTSTAMP:20260425T001029
CREATED:20250517T142113Z
LAST-MODIFIED:20250519T202610Z
UID:10001891-1749034800-1749038400@www.laruelibrary.org
SUMMARY:Homemade Fruit Snacks
DESCRIPTION:Join us at the library on Wednesday\, June 4th at 11:00 AM for a fun\, family-friendly program where you’ll learn how to make homemade fruit snacks! This hands-on activity is a great way to spend time together and explore a tasty\, healthy treat. All supplies will be provided—everyone’s welcome!
URL:https://www.laruelibrary.org/event/homemade-fruit-snacks/
LOCATION:LaRue County Public Library\, 215 Lincoln Drive\, Hodgenville\, KY\, 42748\, United States
CATEGORIES:Family
ATTACH;FMTTYPE=image/png:https://www.laruelibrary.org/wp-content/uploads/2025/05/Screenshot-2025-05-17-at-10.20.42 AM.png
END:VEVENT
BEGIN:VEVENT
DTSTART;TZID=America/Kentucky/Louisville:20250605T133000
DTEND;TZID=America/Kentucky/Louisville:20250605T133000
DTSTAMP:20260425T001029
CREATED:20250517T141809Z
LAST-MODIFIED:20250517T141809Z
UID:10001888-1749130200-1749130200@www.laruelibrary.org
SUMMARY:Story Time
DESCRIPTION:Join us for Story Time at the library—perfect for children under the age of 5! Each session includes stories\, songs\, and fun activities that help build early literacy and social skills. Come share the joy of reading with your little ones in a playful\, welcoming environment. Join us on Tuesdays at 11 AM or Thursdays at 1:30 PM!
URL:https://www.laruelibrary.org/event/story-time-121/2025-06-05/
LOCATION:LaRue County Public Library\, 215 Lincoln Drive\, Hodgenville\, KY\, 42748\, United States
CATEGORIES:Age Under 5 Years Old,Youth Events
ATTACH;FMTTYPE=image/png:https://www.laruelibrary.org/wp-content/uploads/2023/10/NST.0-1.png
END:VEVENT
BEGIN:VEVENT
DTSTART;TZID=America/Kentucky/Louisville:20250605T160000
DTEND;TZID=America/Kentucky/Louisville:20250605T160000
DTSTAMP:20260425T001029
CREATED:20250517T135357Z
LAST-MODIFIED:20250517T135357Z
UID:10001881-1749139200-1749139200@www.laruelibrary.org
SUMMARY:Friends of the Library
DESCRIPTION:Join us for a Friends of the Library meeting. Become a member and help us promote the LaRue County Public Library. Membership enables you to join your local branch chapter and participate in many wonderful library activities throughout the year. Benefits include invitations to special Friends’ events\, Volunteer opportunities\, and advocacy opportunities. We hope you’ll join us on Thursday\, June 5th at 4 PM.
URL:https://www.laruelibrary.org/event/friends-of-the-library-25/
LOCATION:LaRue County Public Library\, 215 Lincoln Drive\, Hodgenville\, KY\, 42748\, United States
CATEGORIES:Adult,Adult Events
ATTACH;FMTTYPE=image/png:https://www.laruelibrary.org/wp-content/uploads/2023/03/BecomeLibraryFriend.png
END:VEVENT
BEGIN:VEVENT
DTSTART;TZID=America/Kentucky/Louisville:20250605T170000
DTEND;TZID=America/Kentucky/Louisville:20250605T170000
DTSTAMP:20260425T001029
CREATED:20250517T135634Z
LAST-MODIFIED:20250517T135634Z
UID:10001882-1749142800-1749142800@www.laruelibrary.org
SUMMARY:All About Hummingbirds
DESCRIPTION:Join Mark Salsman for All About Hummingbirds on Thursday\, June 5th at 5 PM! Whether you’re a seasoned birdwatcher or a beginner\, come learn expert tips on how to attract\, feed\, and care for these beautiful creatures. Don’t miss out on this informative session—perfect for bird lovers of all ages!
URL:https://www.laruelibrary.org/event/all-about-hummingbirds/
LOCATION:LaRue County Public Library\, 215 Lincoln Drive\, Hodgenville\, KY\, 42748\, United States
CATEGORIES:Everyone
ATTACH;FMTTYPE=image/png:https://www.laruelibrary.org/wp-content/uploads/2025/05/Screenshot-2025-05-17-at-9.56.12 AM.png
END:VEVENT
BEGIN:VEVENT
DTSTART;TZID=America/Kentucky/Louisville:20250606T150000
DTEND;TZID=America/Kentucky/Louisville:20250606T150000
DTSTAMP:20260425T001029
CREATED:20250517T135935Z
LAST-MODIFIED:20250517T135935Z
UID:10001883-1749222000-1749222000@www.laruelibrary.org
SUMMARY:One Stroke Painting
DESCRIPTION:Join us on Friday\, June 6th at 3 PM for a One Stroke Painting class designed for teens and adults. Learn the unique technique of creating stunning designs with just one stroke of the brush. Registration is required\, so be sure to sign up in advance. All materials will be provided.
URL:https://www.laruelibrary.org/event/one-stroke-painting/
LOCATION:LaRue County Public Library\, 215 Lincoln Drive\, Hodgenville\, KY\, 42748\, United States
CATEGORIES:Adult,Adult Events,High School,Middle School
ATTACH;FMTTYPE=image/png:https://www.laruelibrary.org/wp-content/uploads/2025/05/Screenshot-2025-05-17-at-9.59.19 AM.png
END:VEVENT
BEGIN:VEVENT
DTSTART;TZID=America/Kentucky/Louisville:20250606T150000
DTEND;TZID=America/Kentucky/Louisville:20250606T150000
DTSTAMP:20260425T001029
CREATED:20250517T142454Z
LAST-MODIFIED:20250517T142454Z
UID:10001892-1749222000-1749222000@www.laruelibrary.org
SUMMARY:No-Bake Recipe: Fruit Salad
DESCRIPTION:Join us at the library on Friday\, June 6th at 11:00 AM for a fun\, family-friendly class where we’ll make a simple and delicious no-bake fruit salad! This hands-on activity is perfect for all ages and a great way to enjoy healthy eating together. All ingredients will be provided.
URL:https://www.laruelibrary.org/event/no-bake-recipe-fruit-salad/
LOCATION:LaRue County Public Library\, 215 Lincoln Drive\, Hodgenville\, KY\, 42748\, United States
CATEGORIES:Everyone
ATTACH;FMTTYPE=image/png:https://www.laruelibrary.org/wp-content/uploads/2025/05/Screenshot-2025-05-17-at-10.24.36 AM.png
END:VEVENT
BEGIN:VEVENT
DTSTART;TZID=America/Kentucky/Louisville:20250609T100000
DTEND;TZID=America/Kentucky/Louisville:20250609T100000
DTSTAMP:20260425T001029
CREATED:20250517T133055Z
LAST-MODIFIED:20250517T133055Z
UID:10001877-1749463200-1749463200@www.laruelibrary.org
SUMMARY:Stretch and Shine
DESCRIPTION:Ease into your week with Stretch and Shine\, a low-impact program focused on stretching and simple\, relaxing movements. Designed for adults of all mobility levels\, this session supports flexibility\, balance\, and a sense of calm. Join us at the library every Monday at 10 AM. No special equipment needed—just wear comfortable clothes and enjoy some time to move and unwind.
URL:https://www.laruelibrary.org/event/stretch-and-shine-54/2025-06-09/
LOCATION:LaRue County Public Library\, 215 Lincoln Drive\, Hodgenville\, KY\, 42748\, United States
CATEGORIES:Adult,Adult Events
ATTACH;FMTTYPE=image/png:https://www.laruelibrary.org/wp-content/uploads/2023/03/Stretch-Adult-Event-1.png
END:VEVENT
BEGIN:VEVENT
DTSTART;TZID=America/Kentucky/Louisville:20250610T110000
DTEND;TZID=America/Kentucky/Louisville:20250610T110000
DTSTAMP:20260425T001029
CREATED:20250517T141809Z
LAST-MODIFIED:20250517T141809Z
UID:10001889-1749553200-1749553200@www.laruelibrary.org
SUMMARY:Story Time
DESCRIPTION:Join us for Story Time at the library—perfect for children under the age of 5! Each session includes stories\, songs\, and fun activities that help build early literacy and social skills. Come share the joy of reading with your little ones in a playful\, welcoming environment. Join us on Tuesdays at 11 AM or Thursdays at 1:30 PM!
URL:https://www.laruelibrary.org/event/story-time-121/2025-06-10/
LOCATION:LaRue County Public Library\, 215 Lincoln Drive\, Hodgenville\, KY\, 42748\, United States
CATEGORIES:Age Under 5 Years Old,Youth Events
ATTACH;FMTTYPE=image/png:https://www.laruelibrary.org/wp-content/uploads/2023/10/NST.0-1.png
END:VEVENT
BEGIN:VEVENT
DTSTART;TZID=America/Kentucky/Louisville:20250610T130000
DTEND;TZID=America/Kentucky/Louisville:20250610T173000
DTSTAMP:20260425T001029
CREATED:20250517T140333Z
LAST-MODIFIED:20250517T140333Z
UID:10001884-1749560400-1749576600@www.laruelibrary.org
SUMMARY:CPR\, First Aid\, and Narcan Training
DESCRIPTION:Join us on Monday\, June 10th from 1:00 PM to 5:30 PM for a Heartsaver CPR\, First Aid\, and Narcan Training class\, offered in partnership with Livin’ Well LaRue Coalition. This course will include certification cards upon completion. Thanks to the Livin’ Well LaRue Coalition\, there is no charge for the class. Open to 10 adults—call the library to sign up!
URL:https://www.laruelibrary.org/event/cpr-first-aid-and-narcan-training/
LOCATION:LaRue County Public Library\, 215 Lincoln Drive\, Hodgenville\, KY\, 42748\, United States
CATEGORIES:Adult,Adult Events
ATTACH;FMTTYPE=image/png:https://www.laruelibrary.org/wp-content/uploads/2025/05/Screenshot-2025-05-17-at-10.02.03 AM.png
END:VEVENT
BEGIN:VEVENT
DTSTART;TZID=America/Kentucky/Louisville:20250611T110000
DTEND;TZID=America/Kentucky/Louisville:20250611T110000
DTSTAMP:20260425T001029
CREATED:20250521T202227Z
LAST-MODIFIED:20250521T202227Z
UID:10001912-1749639600-1749639600@www.laruelibrary.org
SUMMARY:LEGO Create
DESCRIPTION:Join us on Saturday\, June 21st @ 5:00pm for LEGO Create! \nIt’s a fun creativity-driven building session open to ages Grade School through Teens. We’ll provide the bricks—you bring the creativity! \nGrade School – Teens. No sign up needed!
URL:https://www.laruelibrary.org/event/lego-create-5/
LOCATION:LaRue County Public Library\, 215 Lincoln Drive\, Hodgenville\, KY\, 42748\, United States
CATEGORIES:Grade School,High School,Middle School,Youth Events
ATTACH;FMTTYPE=image/png:https://www.laruelibrary.org/wp-content/uploads/2024/06/Lego-Create.png
ORGANIZER;CN="LaRue Public Library":MAILTO:info@laruelibrary.org
END:VEVENT
BEGIN:VEVENT
DTSTART;TZID=America/Kentucky/Louisville:20250611T153000
DTEND;TZID=America/Kentucky/Louisville:20250611T153000
DTSTAMP:20260425T001029
CREATED:20250517T143316Z
LAST-MODIFIED:20250517T143316Z
UID:10001894-1749655800-1749655800@www.laruelibrary.org
SUMMARY:Father's Day Craft
DESCRIPTION:Celebrate Dad with a creative afternoon at the library! Join us on Wednesday\, June 11th at 3:30 PM for a fun Father’s Day Craft program designed for families. Kids and their grown-ups can work together to make a special handmade gift just in time for Father’s Day. All materials will be provided.
URL:https://www.laruelibrary.org/event/fathers-day-craft/
LOCATION:LaRue County Public Library\, 215 Lincoln Drive\, Hodgenville\, KY\, 42748\, United States
CATEGORIES:Family
ATTACH;FMTTYPE=image/png:https://www.laruelibrary.org/wp-content/uploads/2025/05/Screenshot-2025-05-17-at-10.32.58 AM.png
END:VEVENT
BEGIN:VEVENT
DTSTART;TZID=America/Kentucky/Louisville:20250612T100000
DTEND;TZID=America/Kentucky/Louisville:20250612T100000
DTSTAMP:20260425T001029
CREATED:20250315T145412Z
LAST-MODIFIED:20250315T145427Z
UID:10001793-1749722400-1749722400@www.laruelibrary.org
SUMMARY:Circle of Love
DESCRIPTION:Circle of Love – a program for newborn children through age 3. \nOur sponsors are proud of present a program specifically for our youngest community members! Try new songs and activities\, hear stories\, learn about keeping your child safe\, and much more. Each child will leave with some sort of age-appropriate treat! This program is sponsored by: LaRue County Public Library\, HES Family Resource Center\, Lincoln Trail District Health Department. \nJoin us at 10 AM on April 10th\, May 15th\, June 12th\, July 10th\, August 14th\, September 11th\, and October 16th.
URL:https://www.laruelibrary.org/event/circle-of-love/2025-06-12/
LOCATION:LaRue County Public Library\, 215 Lincoln Drive\, Hodgenville\, KY\, 42748\, United States
CATEGORIES:Ages 0 - 36 Months
ATTACH;FMTTYPE=image/png:https://www.laruelibrary.org/wp-content/uploads/2025/03/Screenshot-2025-03-15-105413.png
END:VEVENT
BEGIN:VEVENT
DTSTART;TZID=America/Kentucky/Louisville:20250612T133000
DTEND;TZID=America/Kentucky/Louisville:20250612T133000
DTSTAMP:20260425T001029
CREATED:20250517T141809Z
LAST-MODIFIED:20250517T141809Z
UID:10001890-1749735000-1749735000@www.laruelibrary.org
SUMMARY:Story Time
DESCRIPTION:Join us for Story Time at the library—perfect for children under the age of 5! Each session includes stories\, songs\, and fun activities that help build early literacy and social skills. Come share the joy of reading with your little ones in a playful\, welcoming environment. Join us on Tuesdays at 11 AM or Thursdays at 1:30 PM!
URL:https://www.laruelibrary.org/event/story-time-121/2025-06-12/
LOCATION:LaRue County Public Library\, 215 Lincoln Drive\, Hodgenville\, KY\, 42748\, United States
CATEGORIES:Age Under 5 Years Old,Youth Events
ATTACH;FMTTYPE=image/png:https://www.laruelibrary.org/wp-content/uploads/2023/10/NST.0-1.png
END:VEVENT
BEGIN:VEVENT
DTSTART;TZID=America/Kentucky/Louisville:20250612T173000
DTEND;TZID=America/Kentucky/Louisville:20250612T173000
DTSTAMP:20260425T001029
CREATED:20250517T141000Z
LAST-MODIFIED:20250517T141000Z
UID:10001885-1749749400-1749749400@www.laruelibrary.org
SUMMARY:Colors We Wear
DESCRIPTION:Celebrate The Colors We Wear Week with us on Thursday\, June 12th at 5:30 PM! What color will you wear? Julia Akin\, owner of Faith Family Farm Market Boutique\, will share expert tips on how to choose colors that complement your style. The evening will also feature a fun fashion show to inspire your wardrobe! Everyone is welcome to join in the colorful fun.
URL:https://www.laruelibrary.org/event/colors-we-wear/
LOCATION:LaRue County Public Library\, 215 Lincoln Drive\, Hodgenville\, KY\, 42748\, United States
CATEGORIES:Everyone
ATTACH;FMTTYPE=image/png:https://www.laruelibrary.org/wp-content/uploads/2025/05/Screenshot-2025-05-17-at-10.09.42 AM.png
END:VEVENT
BEGIN:VEVENT
DTSTART;TZID=America/Kentucky/Louisville:20250612T173000
DTEND;TZID=America/Kentucky/Louisville:20250612T173000
DTSTAMP:20260425T001029
CREATED:20250517T144208Z
LAST-MODIFIED:20250517T144208Z
UID:10001895-1749749400-1749749400@www.laruelibrary.org
SUMMARY:Youth Fashion Show
DESCRIPTION:Strike a pose and show off your style at the library’s Youth Fashion Show on Thursday\, June 12th at 5:30 PM! Friends and family are welcome to come watch as young participants walk the runway in their favorite outfits. Want to be part of the show? Call the library to sign up in advance!
URL:https://www.laruelibrary.org/event/youth-fashion-show/
LOCATION:LaRue County Public Library\, 215 Lincoln Drive\, Hodgenville\, KY\, 42748\, United States
CATEGORIES:Family
ATTACH;FMTTYPE=image/png:https://www.laruelibrary.org/wp-content/uploads/2025/05/Screenshot-2025-05-17-at-10.40.17 AM.png
END:VEVENT
BEGIN:VEVENT
DTSTART;TZID=America/Kentucky/Louisville:20250613T140000
DTEND;TZID=America/Kentucky/Louisville:20250613T140000
DTSTAMP:20260425T001029
CREATED:20250517T144440Z
LAST-MODIFIED:20250517T144440Z
UID:10001896-1749823200-1749823200@www.laruelibrary.org
SUMMARY:Magic the Gathering Meet
DESCRIPTION:Calling all young mages! Come play\, learn\, and connect at our Magic: The Gathering Meet on Friday\, June 13th at 2 PM. Open to grade school through teen players—bring your deck or borrow one and jump into the fun!
URL:https://www.laruelibrary.org/event/magic-the-gathering-meet-6/
LOCATION:LaRue County Public Library\, 215 Lincoln Drive\, Hodgenville\, KY\, 42748\, United States
CATEGORIES:High School,Middle School
ATTACH;FMTTYPE=image/png:https://www.laruelibrary.org/wp-content/uploads/2025/01/magic.png
END:VEVENT
BEGIN:VEVENT
DTSTART;TZID=America/Kentucky/Louisville:20250613T150000
DTEND;TZID=America/Kentucky/Louisville:20250613T150000
DTSTAMP:20260425T001029
CREATED:20250517T141422Z
LAST-MODIFIED:20250517T141422Z
UID:10001886-1749826800-1749826800@www.laruelibrary.org
SUMMARY:Tie-Dye Socks & T-Shirts
DESCRIPTION:Add some color to your summer with our Tie-Dye Socks and T-Shirt class on Friday\, June 13th at 3:00 PM! This program is for teens and adults. Participants must bring their own 100% cotton socks or t-shirt to dye. All other materials will be provided. Class size is limited to 24—call the library to register!
URL:https://www.laruelibrary.org/event/tie-dye-socks-t-shirts/
LOCATION:LaRue County Public Library\, 215 Lincoln Drive\, Hodgenville\, KY\, 42748\, United States
CATEGORIES:Adult,Adult Events,High School,Middle School
ATTACH;FMTTYPE=image/png:https://www.laruelibrary.org/wp-content/uploads/2025/05/Screenshot-2025-05-17-at-10.14.11 AM.png
END:VEVENT
BEGIN:VEVENT
DTSTART;TZID=America/Kentucky/Louisville:20250616T100000
DTEND;TZID=America/Kentucky/Louisville:20250616T100000
DTSTAMP:20260425T001029
CREATED:20250517T133055Z
LAST-MODIFIED:20250517T133055Z
UID:10001878-1750068000-1750068000@www.laruelibrary.org
SUMMARY:Stretch and Shine
DESCRIPTION:Ease into your week with Stretch and Shine\, a low-impact program focused on stretching and simple\, relaxing movements. Designed for adults of all mobility levels\, this session supports flexibility\, balance\, and a sense of calm. Join us at the library every Monday at 10 AM. No special equipment needed—just wear comfortable clothes and enjoy some time to move and unwind.
URL:https://www.laruelibrary.org/event/stretch-and-shine-54/2025-06-16/
LOCATION:LaRue County Public Library\, 215 Lincoln Drive\, Hodgenville\, KY\, 42748\, United States
CATEGORIES:Adult,Adult Events
ATTACH;FMTTYPE=image/png:https://www.laruelibrary.org/wp-content/uploads/2023/03/Stretch-Adult-Event-1.png
END:VEVENT
BEGIN:VEVENT
DTSTART;TZID=America/Kentucky/Louisville:20250616T103000
DTEND;TZID=America/Kentucky/Louisville:20250616T103000
DTSTAMP:20260425T001029
CREATED:20250315T135426Z
LAST-MODIFIED:20250315T141221Z
UID:10001774-1750069800-1750069800@www.laruelibrary.org
SUMMARY:Wits Workout
DESCRIPTION:Did you know that social connectedness and intellectual engagement are two lifestyle factors that contribute to your brain’s health? \nSimply put\, coming together and learning new things is good for you and your brain! \nJoin the Wits Workout Group\, where you’ll engage in all kinds of interactive puzzles and games and learn what you can do in your daily life to keep your brain healthy! \nThis program is for adults only\, and no sign up is required. Join us every other Monday in April\, May\, and June at 10:30 AM. (April 7 & 21\, May 5 & 19\, June 2\, 16 & 30).
URL:https://www.laruelibrary.org/event/7577/2025-06-16/
LOCATION:LaRue County Public Library\, 215 Lincoln Drive\, Hodgenville\, KY\, 42748\, United States
CATEGORIES:Adult,Adult Events
ATTACH;FMTTYPE=image/png:https://www.laruelibrary.org/wp-content/uploads/2025/03/Wits-Workout.png
END:VEVENT
BEGIN:VEVENT
DTSTART;TZID=America/Kentucky/Louisville:20250616T140000
DTEND;TZID=America/Kentucky/Louisville:20250616T140000
DTSTAMP:20260425T001029
CREATED:20250520T201609Z
LAST-MODIFIED:20250520T201609Z
UID:10001897-1750082400-1750082400@www.laruelibrary.org
SUMMARY:Community Games
DESCRIPTION:Come and have some game day fun here at the library at 2:00pm! \nBring your friends\, family\, a board game (or choose one of ours) and enjoy!
URL:https://www.laruelibrary.org/event/community-games-50/2025-06-16/
LOCATION:LaRue County Public Library\, 215 Lincoln Drive\, Hodgenville\, KY\, 42748\, United States
CATEGORIES:Adult,Adult Events,Everyone,Family,Youth Events
ATTACH;FMTTYPE=image/jpeg:https://www.laruelibrary.org/wp-content/uploads/2023/07/bg2.jpg
ORGANIZER;CN="LaRue Public Library":MAILTO:info@laruelibrary.org
END:VEVENT
BEGIN:VEVENT
DTSTART;TZID=America/Kentucky/Louisville:20250617T110000
DTEND;TZID=America/Kentucky/Louisville:20250617T110000
DTSTAMP:20260425T001029
CREATED:20250520T203315Z
LAST-MODIFIED:20250520T203315Z
UID:10001902-1750158000-1750158000@www.laruelibrary.org
SUMMARY:Story Time
DESCRIPTION:Join us for a fun and fantastic story and a craft on Tuesday at 11:00 AM and on Thursday at 1:30 PM! \nStory time is for children under the ages of 5. \nThis is a great opportunity to grow young readers. We make learning fun by introducing children to books\, love of reading\, and songs! We can’t wait to see you!
URL:https://www.laruelibrary.org/event/story-time-122/2025-06-17/
LOCATION:LaRue County Public Library\, 215 Lincoln Drive\, Hodgenville\, KY\, 42748\, United States
CATEGORIES:Age Under 5 Years Old,Youth Events
ATTACH;FMTTYPE=image/png:https://www.laruelibrary.org/wp-content/uploads/2023/10/NST.0-1.png
ORGANIZER;CN="LaRue Public Library":MAILTO:info@laruelibrary.org
END:VEVENT
BEGIN:VEVENT
DTSTART;TZID=America/Kentucky/Louisville:20250617T150000
DTEND;TZID=America/Kentucky/Louisville:20250617T150000
DTSTAMP:20260425T001029
CREATED:20250521T195225Z
LAST-MODIFIED:20250521T195225Z
UID:10001908-1750172400-1750172400@www.laruelibrary.org
SUMMARY:Red\, White\, & Blue Candles
DESCRIPTION:Join us on Tuesday\, June 17th at 3:00pm to make Red\, White\, and Blue Rice Candles! \nClass limit of 20. Call to sign up. Teens & Adults.
URL:https://www.laruelibrary.org/event/red-white-blue-candles/
LOCATION:LaRue County Public Library\, 215 Lincoln Drive\, Hodgenville\, KY\, 42748\, United States
CATEGORIES:Adult,Adult Events,High School,Youth Events
ATTACH;FMTTYPE=image/png:https://www.laruelibrary.org/wp-content/uploads/2025/05/Candles.png
ORGANIZER;CN="LaRue Public Library":MAILTO:info@laruelibrary.org
END:VEVENT
BEGIN:VEVENT
DTSTART;TZID=America/Kentucky/Louisville:20250617T163000
DTEND;TZID=America/Kentucky/Louisville:20250617T163000
DTSTAMP:20260425T001029
CREATED:20250616T131058Z
LAST-MODIFIED:20250616T131058Z
UID:10001937-1750177800-1750177800@www.laruelibrary.org
SUMMARY:LCPL Board Meeting
DESCRIPTION:LCPL Special-Called Board Meeting on Tuesday\, June17 at 4:30pm. This is for adults only.
URL:https://www.laruelibrary.org/event/lcpl-board-meeting-4/
LOCATION:KY
CATEGORIES:Adult,Adult Events
ATTACH;FMTTYPE=image/jpeg:https://www.laruelibrary.org/wp-content/uploads/2023/07/brm2.jpg
ORGANIZER;CN="LaRue Public Library":MAILTO:info@laruelibrary.org
END:VEVENT
BEGIN:VEVENT
DTSTART;TZID=America/Kentucky/Louisville:20250617T170000
DTEND;TZID=America/Kentucky/Louisville:20250617T170000
DTSTAMP:20260425T001029
CREATED:20250521T201412Z
LAST-MODIFIED:20250521T201412Z
UID:10001910-1750179600-1750179600@www.laruelibrary.org
SUMMARY:Renaissance Dancing
DESCRIPTION:Join us on Tuesday\, June 17th @ 5:00pm to participate in Renaissance Dancing\, as presented by Kentucky Shakespeare! \nThis is a Family event! Call to sign up!
URL:https://www.laruelibrary.org/event/renaissance-dancing/
LOCATION:LaRue County Public Library\, 215 Lincoln Drive\, Hodgenville\, KY\, 42748\, United States
CATEGORIES:Family,Youth Events
ATTACH;FMTTYPE=image/png:https://www.laruelibrary.org/wp-content/uploads/2025/05/Renaissance.png
ORGANIZER;CN="LaRue Public Library":MAILTO:info@laruelibrary.org
END:VEVENT
BEGIN:VEVENT
DTSTART;TZID=America/Kentucky/Louisville:20250618T153000
DTEND;TZID=America/Kentucky/Louisville:20250618T153000
DTSTAMP:20260425T001029
CREATED:20250520T201935Z
LAST-MODIFIED:20250520T203044Z
UID:10001900-1750260600-1750260600@www.laruelibrary.org
SUMMARY:Book Club
DESCRIPTION:Come join us on Wednesday\, June 18th at 3:30pm for Book Club! \nThis is an Adult program.
URL:https://www.laruelibrary.org/event/book-club-24/
LOCATION:LaRue County Public Library\, 215 Lincoln Drive\, Hodgenville\, KY\, 42748\, United States
CATEGORIES:Adult,Adult Events
ATTACH;FMTTYPE=image/jpeg:https://www.laruelibrary.org/wp-content/uploads/2023/07/bc2.jpg
ORGANIZER;CN="LaRue Public Library":MAILTO:info@laruelibrary.org
END:VEVENT
BEGIN:VEVENT
DTSTART;TZID=America/Kentucky/Louisville:20250618T153000
DTEND;TZID=America/Kentucky/Louisville:20250618T153000
DTSTAMP:20260425T001029
CREATED:20250521T201807Z
LAST-MODIFIED:20250521T201807Z
UID:10001911-1750260600-1750260600@www.laruelibrary.org
SUMMARY:Fourth of July Craft
DESCRIPTION:Join us on Wednesday\, June 18th @ 3:45pm to make a Fourth of July craft! \nThis is a Family event! No registration needed.
URL:https://www.laruelibrary.org/event/fourth-of-july-craft/
LOCATION:LaRue County Public Library\, 215 Lincoln Drive\, Hodgenville\, KY\, 42748\, United States
CATEGORIES:Family,Youth Events
ATTACH;FMTTYPE=image/png:https://www.laruelibrary.org/wp-content/uploads/2025/05/4th-craft.png
ORGANIZER;CN="LaRue Public Library":MAILTO:info@laruelibrary.org
END:VEVENT
BEGIN:VEVENT
DTSTART;VALUE=DATE:20250619
DTEND;VALUE=DATE:20250620
DTSTAMP:20260425T001029
CREATED:20250520T203821Z
LAST-MODIFIED:20250520T203821Z
UID:10001906-1750291200-1750377599@www.laruelibrary.org
SUMMARY:CLOSED
DESCRIPTION:LaRue County Public Library is closed today in celebration of Juneteenth. \nWe will see you tomorrow at 9:00am!
URL:https://www.laruelibrary.org/event/closed-2/
LOCATION:LaRue County Public Library\, 215 Lincoln Drive\, Hodgenville\, KY\, 42748\, United States
CATEGORIES:Adult Events,Everyone,Youth Events
ATTACH;FMTTYPE=image/png:https://www.laruelibrary.org/wp-content/uploads/2025/05/juneteenth.png
ORGANIZER;CN="LaRue Public Library":MAILTO:info@laruelibrary.org
END:VEVENT
BEGIN:VEVENT
DTSTART;TZID=America/Kentucky/Louisville:20250620T150000
DTEND;TZID=America/Kentucky/Louisville:20250620T150000
DTSTAMP:20260425T001029
CREATED:20250521T195504Z
LAST-MODIFIED:20250521T195504Z
UID:10001909-1750431600-1750431600@www.laruelibrary.org
SUMMARY:Rag Flags
DESCRIPTION:Join us on Friday\, June 20th at 3:00pm to make Rag Flags! \nCall to register. Teens & Adults. Class limit of 24.
URL:https://www.laruelibrary.org/event/rag-flags/
LOCATION:LaRue County Public Library\, 215 Lincoln Drive\, Hodgenville\, KY\, 42748\, United States
CATEGORIES:Adult,Adult Events,High School,Youth Events
ATTACH;FMTTYPE=image/png:https://www.laruelibrary.org/wp-content/uploads/2025/05/Rag.png
ORGANIZER;CN="LaRue Public Library":MAILTO:info@laruelibrary.org
END:VEVENT
END:VCALENDAR