BEGIN:VCALENDAR
VERSION:2.0
PRODID:-//LaRue County Public Library - ECPv6.15.20//NONSGML v1.0//EN
CALSCALE:GREGORIAN
METHOD:PUBLISH
X-ORIGINAL-URL:https://www.laruelibrary.org
X-WR-CALDESC:Events for LaRue County Public Library
REFRESH-INTERVAL;VALUE=DURATION:PT1H
X-Robots-Tag:noindex
X-PUBLISHED-TTL:PT1H
BEGIN:VTIMEZONE
TZID:America/Kentucky/Louisville
BEGIN:DAYLIGHT
TZOFFSETFROM:-0500
TZOFFSETTO:-0400
TZNAME:EDT
DTSTART:20250309T070000
END:DAYLIGHT
BEGIN:STANDARD
TZOFFSETFROM:-0400
TZOFFSETTO:-0500
TZNAME:EST
DTSTART:20251102T060000
END:STANDARD
BEGIN:DAYLIGHT
TZOFFSETFROM:-0500
TZOFFSETTO:-0400
TZNAME:EDT
DTSTART:20260308T070000
END:DAYLIGHT
BEGIN:STANDARD
TZOFFSETFROM:-0400
TZOFFSETTO:-0500
TZNAME:EST
DTSTART:20261101T060000
END:STANDARD
BEGIN:DAYLIGHT
TZOFFSETFROM:-0500
TZOFFSETTO:-0400
TZNAME:EDT
DTSTART:20270314T070000
END:DAYLIGHT
BEGIN:STANDARD
TZOFFSETFROM:-0400
TZOFFSETTO:-0500
TZNAME:EST
DTSTART:20271107T060000
END:STANDARD
END:VTIMEZONE
BEGIN:VEVENT
DTSTART;TZID=America/Kentucky/Louisville:20260501T150000
DTEND;TZID=America/Kentucky/Louisville:20260501T150000
DTSTAMP:20260425T110939
CREATED:20260421T215639Z
LAST-MODIFIED:20260421T215639Z
UID:10003399-1777647600-1777647600@www.laruelibrary.org
SUMMARY:Cork Wind Chimes
DESCRIPTION:Create your own relaxing\, nature-inspired décor in this hands-on Cork Wind Chimes workshop! Teens and adults are invited to join us on Friday\, May 1st at 3 PM to craft a unique wind chime using simple materials and your own creative touch. \nPreregistration is required to attend—stop by the library or call to reserve your spot.
URL:https://www.laruelibrary.org/event/cork-wind-chimes/
LOCATION:LaRue County Public Library\, 215 Lincoln Drive\, Hodgenville\, KY\, 42748\, United States
CATEGORIES:Adult,Adult Events,High School,Middle School
ATTACH;FMTTYPE=image/png:https://www.laruelibrary.org/wp-content/uploads/2026/04/Screenshot-2026-04-21-at-5.56.13-PM.png
END:VEVENT
BEGIN:VEVENT
DTSTART;TZID=America/Kentucky/Louisville:20260504T100000
DTEND;TZID=America/Kentucky/Louisville:20260504T100000
DTSTAMP:20260425T110939
CREATED:20260112T145648Z
LAST-MODIFIED:20260112T145648Z
UID:10002923-1777888800-1777888800@www.laruelibrary.org
SUMMARY:Stretch and Shine
DESCRIPTION:Ease into your week with Stretch and Shine\, a low-impact program focused on stretching and simple\, relaxing movements. Designed for adults of all mobility levels\, this session supports flexibility\, balance\, and a sense of calm. Join us at the library every Monday at 10 AM. No special equipment needed—just wear comfortable clothes and enjoy some time to move and unwind.
URL:https://www.laruelibrary.org/event/stretch-and-shine-58/2026-05-04/
LOCATION:LaRue County Public Library\, 215 Lincoln Drive\, Hodgenville\, KY\, 42748\, United States
CATEGORIES:Adult,Adult Events
ATTACH;FMTTYPE=image/png:https://www.laruelibrary.org/wp-content/uploads/2023/03/Stretch-Adult-Event-1.png
ORGANIZER;CN="LaRue Public Library":MAILTO:info@laruelibrary.org
END:VEVENT
BEGIN:VEVENT
DTSTART;TZID=America/Kentucky/Louisville:20260504T100000
DTEND;TZID=America/Kentucky/Louisville:20260504T100000
DTSTAMP:20260425T110939
CREATED:20260221T151547Z
LAST-MODIFIED:20260221T151547Z
UID:10003078-1777888800-1777888800@www.laruelibrary.org
SUMMARY:Stretch and Shine
DESCRIPTION:Ease into your week with Stretch and Shine\, a low-impact program focused on stretching and simple\, relaxing movements. Designed for adults of all mobility levels\, this session supports flexibility\, balance\, and a sense of calm. Join us at the library every Monday at 10 AM. No special equipment needed—just wear comfortable clothes and enjoy some time to move and unwind.
URL:https://www.laruelibrary.org/event/stretch-and-shine-59/2026-05-04/
LOCATION:LaRue County Public Library\, 215 Lincoln Drive\, Hodgenville\, KY\, 42748\, United States
CATEGORIES:Adult,Adult Events
ATTACH;FMTTYPE=image/png:https://www.laruelibrary.org/wp-content/uploads/2023/03/Stretch-Adult-Event-1.png
END:VEVENT
BEGIN:VEVENT
DTSTART;TZID=America/Kentucky/Louisville:20260504T140000
DTEND;TZID=America/Kentucky/Louisville:20260504T140000
DTSTAMP:20260425T110939
CREATED:20260112T150059Z
LAST-MODIFIED:20260112T150059Z
UID:10002974-1777903200-1777903200@www.laruelibrary.org
SUMMARY:Community Games
DESCRIPTION:Come and have some game day fun here at the library at 2:00 pm! Bring your friends\, family\, a board game (or choose one of ours)\, and enjoy! We’ll see you on Monday at 2 PM in the Community Room at the library.
URL:https://www.laruelibrary.org/event/community-games-52/2026-05-04/
LOCATION:LaRue County Public Library\, 215 Lincoln Drive\, Hodgenville\, KY\, 42748\, United States
CATEGORIES:Adult,Adult Events,Everyone,Family,Youth Events
ATTACH;FMTTYPE=image/jpeg:https://www.laruelibrary.org/wp-content/uploads/2025/01/game.jpeg
ORGANIZER;CN="LaRue Public Library":MAILTO:info@laruelibrary.org
END:VEVENT
BEGIN:VEVENT
DTSTART;TZID=America/Kentucky/Louisville:20260505T100000
DTEND;TZID=America/Kentucky/Louisville:20260505T100000
DTSTAMP:20260425T110939
CREATED:20260421T220310Z
LAST-MODIFIED:20260421T220310Z
UID:10003400-1777975200-1777975200@www.laruelibrary.org
SUMMARY:Keep Stepping Forward
DESCRIPTION:Keep Stepping Forward is a supportive library program for anyone who has lost a spouse or significant other\, offering a welcoming space for connection\, reflection\, and encouragement. Join us at the library on Tuesday\, May 5th at 10:00 AM to take meaningful steps forward together.
URL:https://www.laruelibrary.org/event/keep-stepping-forward-14/
LOCATION:LaRue County Public Library\, 215 Lincoln Drive\, Hodgenville\, KY\, 42748\, United States
CATEGORIES:Adult,Adult Events
ATTACH;FMTTYPE=image/png:https://www.laruelibrary.org/wp-content/uploads/2026/04/Screenshot-2026-04-21-at-6.01.44-PM.png
END:VEVENT
BEGIN:VEVENT
DTSTART;TZID=America/Kentucky/Louisville:20260505T110000
DTEND;TZID=America/Kentucky/Louisville:20260505T110000
DTSTAMP:20260425T110939
CREATED:20260420T171650Z
LAST-MODIFIED:20260420T171650Z
UID:10003390-1777978800-1777978800@www.laruelibrary.org
SUMMARY:Story Time
DESCRIPTION:Join us for a fun and fantastic story and a craft on Tuesday at 11:00 AM and on Thursday at 1:30 PM! \nStory time is for children under the ages of 5. \nThis is a great opportunity to grow young readers. We make learning fun by introducing children to books\, love of reading\, and songs! We can’t wait to see you!
URL:https://www.laruelibrary.org/event/story-time-133/2026-05-05/
LOCATION:LaRue County Public Library\, 215 Lincoln Drive\, Hodgenville\, KY\, 42748\, United States
CATEGORIES:Age Under 5 Years Old,Youth Events
ATTACH;FMTTYPE=image/png:https://www.laruelibrary.org/wp-content/uploads/2026/03/maternityST.png
ORGANIZER;CN="LaRue Public Library":MAILTO:info@laruelibrary.org
END:VEVENT
BEGIN:VEVENT
DTSTART;TZID=America/Kentucky/Louisville:20260505T160000
DTEND;TZID=America/Kentucky/Louisville:20260505T160000
DTSTAMP:20260425T110939
CREATED:20260421T220847Z
LAST-MODIFIED:20260421T220847Z
UID:10003401-1777996800-1777996800@www.laruelibrary.org
SUMMARY:Friends of the Library
DESCRIPTION:Join us for a Friends of the Library meeting. Consider becoming a member and help us promote the LaRue County Public Library. Membership enables you to join your local branch chapter and participate in many wonderful library activities throughout the year. Benefits include invitations to special Friends’ events\, Volunteer opportunities\, and advocacy opportunities. We hope you’ll join us on Tuesday\, April 5\, 2026 at 4 PM.
URL:https://www.laruelibrary.org/event/friends-of-the-library-31/
LOCATION:LaRue County Public Library\, 215 Lincoln Drive\, Hodgenville\, KY\, 42748\, United States
CATEGORIES:Adult,Adult Events
ATTACH;FMTTYPE=image/png:https://www.laruelibrary.org/wp-content/uploads/2023/03/BecomeLibraryFriend.png
END:VEVENT
BEGIN:VEVENT
DTSTART;TZID=America/Kentucky/Louisville:20260505T173000
DTEND;TZID=America/Kentucky/Louisville:20260505T173000
DTSTAMP:20260425T110939
CREATED:20260421T222006Z
LAST-MODIFIED:20260421T222006Z
UID:10003402-1778002200-1778002200@www.laruelibrary.org
SUMMARY:Meet Me Series: City Council
DESCRIPTION:Meet local leaders\, learn about the work they do throughout our community\, and have an opportunity to ask questions. Everyone is welcome. \nTuesday\, May 5th @ 5:30 PM – Hodgenville City Council \nTuesday\, May 12th @ 5 PM – LaRue County Chamber of Commerce \nThursday\, May 14th @ 5:30 PM – City of Hodgenville Tourism Commission
URL:https://www.laruelibrary.org/event/meet-me-series-city-council/2026-05-05/
LOCATION:KY
CATEGORIES:Everyone
ATTACH;FMTTYPE=image/png:https://www.laruelibrary.org/wp-content/uploads/2026/04/Screenshot-2026-04-21-at-6.18.37-PM.png
END:VEVENT
BEGIN:VEVENT
DTSTART;TZID=America/Kentucky/Louisville:20260507T133000
DTEND;TZID=America/Kentucky/Louisville:20260507T133000
DTSTAMP:20260425T110939
CREATED:20260420T171650Z
LAST-MODIFIED:20260420T171650Z
UID:10003391-1778160600-1778160600@www.laruelibrary.org
SUMMARY:Story Time
DESCRIPTION:Join us for a fun and fantastic story and a craft on Tuesday at 11:00 AM and on Thursday at 1:30 PM! \nStory time is for children under the ages of 5. \nThis is a great opportunity to grow young readers. We make learning fun by introducing children to books\, love of reading\, and songs! We can’t wait to see you!
URL:https://www.laruelibrary.org/event/story-time-133/2026-05-07/
LOCATION:LaRue County Public Library\, 215 Lincoln Drive\, Hodgenville\, KY\, 42748\, United States
CATEGORIES:Age Under 5 Years Old,Youth Events
ATTACH;FMTTYPE=image/png:https://www.laruelibrary.org/wp-content/uploads/2026/03/maternityST.png
ORGANIZER;CN="LaRue Public Library":MAILTO:info@laruelibrary.org
END:VEVENT
BEGIN:VEVENT
DTSTART;TZID=America/Kentucky/Louisville:20260507T160000
DTEND;TZID=America/Kentucky/Louisville:20260507T160000
DTSTAMP:20260425T110940
CREATED:20260423T214014Z
LAST-MODIFIED:20260423T214014Z
UID:10003407-1778169600-1778169600@www.laruelibrary.org
SUMMARY:Mother's Day Craft
DESCRIPTION:Join us on Thursday\, May 7th at 4 PM for a special Mother’s Day Memory Boxes craft\, where families can create a meaningful keepsake to celebrate the moms and caregivers in their lives. Please register in advance by visiting the library or calling us to reserve your spot.
URL:https://www.laruelibrary.org/event/mothers-day-craft-2/
LOCATION:LaRue County Public Library\, 215 Lincoln Drive\, Hodgenville\, KY\, 42748\, United States
CATEGORIES:Family
ATTACH;FMTTYPE=image/png:https://www.laruelibrary.org/wp-content/uploads/2026/04/Screenshot-2026-04-23-at-5.40.02-PM.png
END:VEVENT
BEGIN:VEVENT
DTSTART;TZID=America/Kentucky/Louisville:20260507T173000
DTEND;TZID=America/Kentucky/Louisville:20260507T173000
DTSTAMP:20260425T110940
CREATED:20260421T222514Z
LAST-MODIFIED:20260421T222514Z
UID:10003405-1778175000-1778175000@www.laruelibrary.org
SUMMARY:Bariatric Support Group
DESCRIPTION:Join us for a supportive and welcoming bariatric support group on Thursday\, May 7th\, at 5:30 PM at the public library. This program offers a safe space to share experiences\, gain encouragement\, and connect with others on a similar health journey.
URL:https://www.laruelibrary.org/event/bariatric-support-group-3/
LOCATION:LaRue County Public Library\, 215 Lincoln Drive\, Hodgenville\, KY\, 42748\, United States
CATEGORIES:Adult,Adult Events
ATTACH;FMTTYPE=image/png:https://www.laruelibrary.org/wp-content/uploads/2026/04/Screenshot-2026-04-21-at-6.25.00-PM.png
END:VEVENT
BEGIN:VEVENT
DTSTART;TZID=America/Kentucky/Louisville:20260508T190000
DTEND;TZID=America/Kentucky/Louisville:20260508T220000
DTSTAMP:20260425T110940
CREATED:20260423T214928Z
LAST-MODIFIED:20260423T214928Z
UID:10003408-1778266800-1778277600@www.laruelibrary.org
SUMMARY:Music at the Mill
DESCRIPTION:Join us for a fun evening of music\, food\, and fellowship at Music at the Mill! You can join us at Mather’s Mill\, located at 2500 Tanner Road\, Hodgenville\, Ky 42748! Tickets are $10 each; children ages 5 and under are free! Bring a chair\, maybe a blanket\, and be ready for a great evening! The Carter Brothers and Brian Williamson are performing. You can also get something to eat from one of the local food trucks set up at the event. Interested in attending? Stop by the library to purchase your ticket!
URL:https://www.laruelibrary.org/event/music-at-the-mill/
LOCATION:Mather’s Mill\, 2500 Tanner Road\, Hodgenville\, KY\, 42748\, United States
CATEGORIES:Everyone
ATTACH;FMTTYPE=image/png:https://www.laruelibrary.org/wp-content/uploads/2026/04/Music-at-the-Mill-Poster-1.png
END:VEVENT
BEGIN:VEVENT
DTSTART;TZID=America/Kentucky/Louisville:20260511T100000
DTEND;TZID=America/Kentucky/Louisville:20260511T100000
DTSTAMP:20260425T110940
CREATED:20260112T145648Z
LAST-MODIFIED:20260112T145648Z
UID:10002924-1778493600-1778493600@www.laruelibrary.org
SUMMARY:Stretch and Shine
DESCRIPTION:Ease into your week with Stretch and Shine\, a low-impact program focused on stretching and simple\, relaxing movements. Designed for adults of all mobility levels\, this session supports flexibility\, balance\, and a sense of calm. Join us at the library every Monday at 10 AM. No special equipment needed—just wear comfortable clothes and enjoy some time to move and unwind.
URL:https://www.laruelibrary.org/event/stretch-and-shine-58/2026-05-11/
LOCATION:LaRue County Public Library\, 215 Lincoln Drive\, Hodgenville\, KY\, 42748\, United States
CATEGORIES:Adult,Adult Events
ATTACH;FMTTYPE=image/png:https://www.laruelibrary.org/wp-content/uploads/2023/03/Stretch-Adult-Event-1.png
ORGANIZER;CN="LaRue Public Library":MAILTO:info@laruelibrary.org
END:VEVENT
BEGIN:VEVENT
DTSTART;TZID=America/Kentucky/Louisville:20260511T100000
DTEND;TZID=America/Kentucky/Louisville:20260511T100000
DTSTAMP:20260425T110940
CREATED:20260221T151547Z
LAST-MODIFIED:20260221T151547Z
UID:10003079-1778493600-1778493600@www.laruelibrary.org
SUMMARY:Stretch and Shine
DESCRIPTION:Ease into your week with Stretch and Shine\, a low-impact program focused on stretching and simple\, relaxing movements. Designed for adults of all mobility levels\, this session supports flexibility\, balance\, and a sense of calm. Join us at the library every Monday at 10 AM. No special equipment needed—just wear comfortable clothes and enjoy some time to move and unwind.
URL:https://www.laruelibrary.org/event/stretch-and-shine-59/2026-05-11/
LOCATION:LaRue County Public Library\, 215 Lincoln Drive\, Hodgenville\, KY\, 42748\, United States
CATEGORIES:Adult,Adult Events
ATTACH;FMTTYPE=image/png:https://www.laruelibrary.org/wp-content/uploads/2023/03/Stretch-Adult-Event-1.png
END:VEVENT
BEGIN:VEVENT
DTSTART;TZID=America/Kentucky/Louisville:20260511T140000
DTEND;TZID=America/Kentucky/Louisville:20260511T140000
DTSTAMP:20260425T110940
CREATED:20260112T150059Z
LAST-MODIFIED:20260112T150059Z
UID:10002975-1778508000-1778508000@www.laruelibrary.org
SUMMARY:Community Games
DESCRIPTION:Come and have some game day fun here at the library at 2:00 pm! Bring your friends\, family\, a board game (or choose one of ours)\, and enjoy! We’ll see you on Monday at 2 PM in the Community Room at the library.
URL:https://www.laruelibrary.org/event/community-games-52/2026-05-11/
LOCATION:LaRue County Public Library\, 215 Lincoln Drive\, Hodgenville\, KY\, 42748\, United States
CATEGORIES:Adult,Adult Events,Everyone,Family,Youth Events
ATTACH;FMTTYPE=image/jpeg:https://www.laruelibrary.org/wp-content/uploads/2025/01/game.jpeg
ORGANIZER;CN="LaRue Public Library":MAILTO:info@laruelibrary.org
END:VEVENT
BEGIN:VEVENT
DTSTART;TZID=America/Kentucky/Louisville:20260512T100000
DTEND;TZID=America/Kentucky/Louisville:20260512T113000
DTSTAMP:20260425T110940
CREATED:20260421T223044Z
LAST-MODIFIED:20260421T223044Z
UID:10003406-1778580000-1778585400@www.laruelibrary.org
SUMMARY:Kynect
DESCRIPTION:What can Kynect do for you? Ginny Whitt will be set up in our lobby on Tuesday\, May 12 18th\, from 10:00-11:30 AM. Not sure where to start? Ginny can help you! Snap benefits\, Medicaid\, Kentucky Marketplace Insurance\, and more. Let her help you avoid those phone calls and red tape.
URL:https://www.laruelibrary.org/event/kynect-26/
LOCATION:LaRue County Public Library\, 215 Lincoln Drive\, Hodgenville\, KY\, 42748\, United States
CATEGORIES:Adult,Adult Events
ATTACH;FMTTYPE=image/png:https://www.laruelibrary.org/wp-content/uploads/2026/04/Screenshot-2026-04-21-at-6.29.43-PM.png
END:VEVENT
BEGIN:VEVENT
DTSTART;TZID=America/Kentucky/Louisville:20260512T110000
DTEND;TZID=America/Kentucky/Louisville:20260512T110000
DTSTAMP:20260425T110940
CREATED:20260420T171650Z
LAST-MODIFIED:20260420T171650Z
UID:10003392-1778583600-1778583600@www.laruelibrary.org
SUMMARY:Story Time
DESCRIPTION:Join us for a fun and fantastic story and a craft on Tuesday at 11:00 AM and on Thursday at 1:30 PM! \nStory time is for children under the ages of 5. \nThis is a great opportunity to grow young readers. We make learning fun by introducing children to books\, love of reading\, and songs! We can’t wait to see you!
URL:https://www.laruelibrary.org/event/story-time-133/2026-05-12/
LOCATION:LaRue County Public Library\, 215 Lincoln Drive\, Hodgenville\, KY\, 42748\, United States
CATEGORIES:Age Under 5 Years Old,Youth Events
ATTACH;FMTTYPE=image/png:https://www.laruelibrary.org/wp-content/uploads/2026/03/maternityST.png
ORGANIZER;CN="LaRue Public Library":MAILTO:info@laruelibrary.org
END:VEVENT
BEGIN:VEVENT
DTSTART;TZID=America/Kentucky/Louisville:20260512T153000
DTEND;TZID=America/Kentucky/Louisville:20260512T153000
DTSTAMP:20260425T110940
CREATED:20260423T215405Z
LAST-MODIFIED:20260423T215405Z
UID:10003409-1778599800-1778599800@www.laruelibrary.org
SUMMARY:Chalk Art
DESCRIPTION:Join us on Tuesday\, May 12th at 3:30 PM for a fun outdoor Chalk Art activity where families can get creative and decorate with colorful designs. No registration is required—just stop by and enjoy the fun!
URL:https://www.laruelibrary.org/event/chalk-art/
LOCATION:LaRue County Public Library\, 215 Lincoln Drive\, Hodgenville\, KY\, 42748\, United States
CATEGORIES:Family
ATTACH;FMTTYPE=image/png:https://www.laruelibrary.org/wp-content/uploads/2026/04/Screenshot-2026-04-23-at-5.53.28-PM.png
END:VEVENT
BEGIN:VEVENT
DTSTART;TZID=America/Kentucky/Louisville:20260512T170000
DTEND;TZID=America/Kentucky/Louisville:20260512T170000
DTSTAMP:20260425T110940
CREATED:20260421T222006Z
LAST-MODIFIED:20260421T222006Z
UID:10003403-1778605200-1778605200@www.laruelibrary.org
SUMMARY:Meet Me Series: City Council
DESCRIPTION:Meet local leaders\, learn about the work they do throughout our community\, and have an opportunity to ask questions. Everyone is welcome. \nTuesday\, May 5th @ 5:30 PM – Hodgenville City Council \nTuesday\, May 12th @ 5 PM – LaRue County Chamber of Commerce \nThursday\, May 14th @ 5:30 PM – City of Hodgenville Tourism Commission
URL:https://www.laruelibrary.org/event/meet-me-series-city-council/2026-05-12/
LOCATION:KY
CATEGORIES:Everyone
ATTACH;FMTTYPE=image/png:https://www.laruelibrary.org/wp-content/uploads/2026/04/Screenshot-2026-04-21-at-6.18.37-PM.png
END:VEVENT
BEGIN:VEVENT
DTSTART;TZID=America/Kentucky/Louisville:20260514T133000
DTEND;TZID=America/Kentucky/Louisville:20260514T133000
DTSTAMP:20260425T110940
CREATED:20260420T171650Z
LAST-MODIFIED:20260420T171650Z
UID:10003393-1778765400-1778765400@www.laruelibrary.org
SUMMARY:Story Time
DESCRIPTION:Join us for a fun and fantastic story and a craft on Tuesday at 11:00 AM and on Thursday at 1:30 PM! \nStory time is for children under the ages of 5. \nThis is a great opportunity to grow young readers. We make learning fun by introducing children to books\, love of reading\, and songs! We can’t wait to see you!
URL:https://www.laruelibrary.org/event/story-time-133/2026-05-14/
LOCATION:LaRue County Public Library\, 215 Lincoln Drive\, Hodgenville\, KY\, 42748\, United States
CATEGORIES:Age Under 5 Years Old,Youth Events
ATTACH;FMTTYPE=image/png:https://www.laruelibrary.org/wp-content/uploads/2026/03/maternityST.png
ORGANIZER;CN="LaRue Public Library":MAILTO:info@laruelibrary.org
END:VEVENT
BEGIN:VEVENT
DTSTART;TZID=America/Kentucky/Louisville:20260514T173000
DTEND;TZID=America/Kentucky/Louisville:20260514T173000
DTSTAMP:20260425T110940
CREATED:20260421T222006Z
LAST-MODIFIED:20260421T222006Z
UID:10003404-1778779800-1778779800@www.laruelibrary.org
SUMMARY:Meet Me Series: City Council
DESCRIPTION:Meet local leaders\, learn about the work they do throughout our community\, and have an opportunity to ask questions. Everyone is welcome. \nTuesday\, May 5th @ 5:30 PM – Hodgenville City Council \nTuesday\, May 12th @ 5 PM – LaRue County Chamber of Commerce \nThursday\, May 14th @ 5:30 PM – City of Hodgenville Tourism Commission
URL:https://www.laruelibrary.org/event/meet-me-series-city-council/2026-05-14/
LOCATION:KY
CATEGORIES:Everyone
ATTACH;FMTTYPE=image/png:https://www.laruelibrary.org/wp-content/uploads/2026/04/Screenshot-2026-04-21-at-6.18.37-PM.png
END:VEVENT
BEGIN:VEVENT
DTSTART;TZID=America/Kentucky/Louisville:20260515T150000
DTEND;TZID=America/Kentucky/Louisville:20260515T150000
DTSTAMP:20260425T110940
CREATED:20260420T160220Z
LAST-MODIFIED:20260420T160220Z
UID:10003372-1778857200-1778857200@www.laruelibrary.org
SUMMARY:Coffee Filter Peonies
DESCRIPTION:Join us on Friday\, May 15th at 3:00pm to make Coffee Filter Peonies! \nTeens and Adults. Call to register.
URL:https://www.laruelibrary.org/event/coffee-filter-peonies/
LOCATION:LaRue County Public Library\, 215 Lincoln Drive\, Hodgenville\, KY\, 42748\, United States
CATEGORIES:Adult,Adult Events,High School,Youth Events
ATTACH;FMTTYPE=image/png:https://www.laruelibrary.org/wp-content/uploads/2026/04/filter15.png
ORGANIZER;CN="LaRue Public Library":MAILTO:info@laruelibrary.org
END:VEVENT
BEGIN:VEVENT
DTSTART;TZID=America/Kentucky/Louisville:20260516T110000
DTEND;TZID=America/Kentucky/Louisville:20260516T110000
DTSTAMP:20260425T110940
CREATED:20260420T170136Z
LAST-MODIFIED:20260420T170136Z
UID:10003387-1778929200-1778929200@www.laruelibrary.org
SUMMARY:Flower Program: Planting Flowers
DESCRIPTION:Join us on Saturday\, May 16th at 11:00am as Debbie Hagan leads a flower program! \nDebbie will teach about how to plant and care for seeds\, with each child leaving with their own pack of seeds! \nThis is a Family event
URL:https://www.laruelibrary.org/event/flower-program-planting-flowers/
LOCATION:LaRue County Public Library\, 215 Lincoln Drive\, Hodgenville\, KY\, 42748\, United States
CATEGORIES:Family,Youth Events
ATTACH;FMTTYPE=image/png:https://www.laruelibrary.org/wp-content/uploads/2026/04/flower16.png
ORGANIZER;CN="LaRue Public Library":MAILTO:info@laruelibrary.org
END:VEVENT
BEGIN:VEVENT
DTSTART;TZID=America/Kentucky/Louisville:20260518T100000
DTEND;TZID=America/Kentucky/Louisville:20260518T100000
DTSTAMP:20260425T110940
CREATED:20260112T145648Z
LAST-MODIFIED:20260112T145648Z
UID:10002925-1779098400-1779098400@www.laruelibrary.org
SUMMARY:Stretch and Shine
DESCRIPTION:Ease into your week with Stretch and Shine\, a low-impact program focused on stretching and simple\, relaxing movements. Designed for adults of all mobility levels\, this session supports flexibility\, balance\, and a sense of calm. Join us at the library every Monday at 10 AM. No special equipment needed—just wear comfortable clothes and enjoy some time to move and unwind.
URL:https://www.laruelibrary.org/event/stretch-and-shine-58/2026-05-18/
LOCATION:LaRue County Public Library\, 215 Lincoln Drive\, Hodgenville\, KY\, 42748\, United States
CATEGORIES:Adult,Adult Events
ATTACH;FMTTYPE=image/png:https://www.laruelibrary.org/wp-content/uploads/2023/03/Stretch-Adult-Event-1.png
ORGANIZER;CN="LaRue Public Library":MAILTO:info@laruelibrary.org
END:VEVENT
BEGIN:VEVENT
DTSTART;TZID=America/Kentucky/Louisville:20260518T100000
DTEND;TZID=America/Kentucky/Louisville:20260518T100000
DTSTAMP:20260425T110940
CREATED:20260221T151547Z
LAST-MODIFIED:20260221T151547Z
UID:10003080-1779098400-1779098400@www.laruelibrary.org
SUMMARY:Stretch and Shine
DESCRIPTION:Ease into your week with Stretch and Shine\, a low-impact program focused on stretching and simple\, relaxing movements. Designed for adults of all mobility levels\, this session supports flexibility\, balance\, and a sense of calm. Join us at the library every Monday at 10 AM. No special equipment needed—just wear comfortable clothes and enjoy some time to move and unwind.
URL:https://www.laruelibrary.org/event/stretch-and-shine-59/2026-05-18/
LOCATION:LaRue County Public Library\, 215 Lincoln Drive\, Hodgenville\, KY\, 42748\, United States
CATEGORIES:Adult,Adult Events
ATTACH;FMTTYPE=image/png:https://www.laruelibrary.org/wp-content/uploads/2023/03/Stretch-Adult-Event-1.png
END:VEVENT
BEGIN:VEVENT
DTSTART;TZID=America/Kentucky/Louisville:20260518T140000
DTEND;TZID=America/Kentucky/Louisville:20260518T140000
DTSTAMP:20260425T110940
CREATED:20260112T150059Z
LAST-MODIFIED:20260112T150059Z
UID:10002976-1779112800-1779112800@www.laruelibrary.org
SUMMARY:Community Games
DESCRIPTION:Come and have some game day fun here at the library at 2:00 pm! Bring your friends\, family\, a board game (or choose one of ours)\, and enjoy! We’ll see you on Monday at 2 PM in the Community Room at the library.
URL:https://www.laruelibrary.org/event/community-games-52/2026-05-18/
LOCATION:LaRue County Public Library\, 215 Lincoln Drive\, Hodgenville\, KY\, 42748\, United States
CATEGORIES:Adult,Adult Events,Everyone,Family,Youth Events
ATTACH;FMTTYPE=image/jpeg:https://www.laruelibrary.org/wp-content/uploads/2025/01/game.jpeg
ORGANIZER;CN="LaRue Public Library":MAILTO:info@laruelibrary.org
END:VEVENT
BEGIN:VEVENT
DTSTART;TZID=America/Kentucky/Louisville:20260519T100000
DTEND;TZID=America/Kentucky/Louisville:20260519T100000
DTSTAMP:20260425T110940
CREATED:20260420T165124Z
LAST-MODIFIED:20260420T165124Z
UID:10003384-1779184800-1779184800@www.laruelibrary.org
SUMMARY:BINGOcize
DESCRIPTION:Join us on Tuesday\, May 19th at 10:00am for a health promotion program combining Bingo! with inclusive exercises for all! \nThis class is meant for Adults.
URL:https://www.laruelibrary.org/event/bingocize-17/
LOCATION:LaRue County Public Library\, 215 Lincoln Drive\, Hodgenville\, KY\, 42748\, United States
CATEGORIES:Adult,Adult Events
ATTACH;FMTTYPE=image/png:https://www.laruelibrary.org/wp-content/uploads/2026/04/bingo19.png
ORGANIZER;CN="LaRue Public Library":MAILTO:info@laruelibrary.org
END:VEVENT
BEGIN:VEVENT
DTSTART;TZID=America/Kentucky/Louisville:20260519T110000
DTEND;TZID=America/Kentucky/Louisville:20260519T110000
DTSTAMP:20260425T110940
CREATED:20260420T165009Z
LAST-MODIFIED:20260420T165009Z
UID:10003383-1779188400-1779188400@www.laruelibrary.org
SUMMARY:Tai Chi
DESCRIPTION:Join us on Tuesday\, May 19th @ 11:15am to practice Tai Chi. \nTai Chi is a practice that involves a series of slow gentle movements and physical postures\, a meditative state of mind\, and controlled breathing. It originated as an ancient martial art in China and\, over time\, has become more focused on health promotion and rehabilitation. \nAdults Only.
URL:https://www.laruelibrary.org/event/tai-chi-14/
LOCATION:LaRue County Public Library\, 215 Lincoln Drive\, Hodgenville\, KY\, 42748\, United States
CATEGORIES:Adult,Adult Events
ATTACH;FMTTYPE=image/png:https://www.laruelibrary.org/wp-content/uploads/2026/04/taichi19.png
ORGANIZER;CN="LaRue Public Library":MAILTO:info@laruelibrary.org
END:VEVENT
BEGIN:VEVENT
DTSTART;TZID=America/Kentucky/Louisville:20260519T110000
DTEND;TZID=America/Kentucky/Louisville:20260519T110000
DTSTAMP:20260425T110940
CREATED:20260420T171650Z
LAST-MODIFIED:20260420T171650Z
UID:10003394-1779188400-1779188400@www.laruelibrary.org
SUMMARY:Story Time
DESCRIPTION:Join us for a fun and fantastic story and a craft on Tuesday at 11:00 AM and on Thursday at 1:30 PM! \nStory time is for children under the ages of 5. \nThis is a great opportunity to grow young readers. We make learning fun by introducing children to books\, love of reading\, and songs! We can’t wait to see you!
URL:https://www.laruelibrary.org/event/story-time-133/2026-05-19/
LOCATION:LaRue County Public Library\, 215 Lincoln Drive\, Hodgenville\, KY\, 42748\, United States
CATEGORIES:Age Under 5 Years Old,Youth Events
ATTACH;FMTTYPE=image/png:https://www.laruelibrary.org/wp-content/uploads/2026/03/maternityST.png
ORGANIZER;CN="LaRue Public Library":MAILTO:info@laruelibrary.org
END:VEVENT
BEGIN:VEVENT
DTSTART;TZID=America/Kentucky/Louisville:20260519T170000
DTEND;TZID=America/Kentucky/Louisville:20260519T170000
DTSTAMP:20260425T110940
CREATED:20260420T160641Z
LAST-MODIFIED:20260420T160641Z
UID:10003373-1779210000-1779210000@www.laruelibrary.org
SUMMARY:American Sign Language (ASL)
DESCRIPTION:Join us on Tuesday\, May 19th at 5:00pm to learn American Sign Language! \nClass limit of 24. Open to all ages. Call to register.
URL:https://www.laruelibrary.org/event/american-sign-language-asl-3/
LOCATION:LaRue County Public Library\, 215 Lincoln Drive\, Hodgenville\, KY\, 42748\, United States
CATEGORIES:Adult,Adult Events,Everyone,Family,Youth Events
ATTACH;FMTTYPE=image/png:https://www.laruelibrary.org/wp-content/uploads/2026/04/asl19.png
ORGANIZER;CN="LaRue Public Library":MAILTO:info@laruelibrary.org
END:VEVENT
END:VCALENDAR