BEGIN:VCALENDAR
VERSION:2.0
PRODID:-//LaRue County Public Library - ECPv6.15.20//NONSGML v1.0//EN
CALSCALE:GREGORIAN
METHOD:PUBLISH
X-WR-CALNAME:LaRue County Public Library
X-ORIGINAL-URL:https://www.laruelibrary.org
X-WR-CALDESC:Events for LaRue County Public Library
REFRESH-INTERVAL;VALUE=DURATION:PT1H
X-Robots-Tag:noindex
X-PUBLISHED-TTL:PT1H
BEGIN:VTIMEZONE
TZID:America/Kentucky/Louisville
BEGIN:DAYLIGHT
TZOFFSETFROM:-0500
TZOFFSETTO:-0400
TZNAME:EDT
DTSTART:20250309T070000
END:DAYLIGHT
BEGIN:STANDARD
TZOFFSETFROM:-0400
TZOFFSETTO:-0500
TZNAME:EST
DTSTART:20251102T060000
END:STANDARD
BEGIN:DAYLIGHT
TZOFFSETFROM:-0500
TZOFFSETTO:-0400
TZNAME:EDT
DTSTART:20260308T070000
END:DAYLIGHT
BEGIN:STANDARD
TZOFFSETFROM:-0400
TZOFFSETTO:-0500
TZNAME:EST
DTSTART:20261101T060000
END:STANDARD
BEGIN:DAYLIGHT
TZOFFSETFROM:-0500
TZOFFSETTO:-0400
TZNAME:EDT
DTSTART:20270314T070000
END:DAYLIGHT
BEGIN:STANDARD
TZOFFSETFROM:-0400
TZOFFSETTO:-0500
TZNAME:EST
DTSTART:20271107T060000
END:STANDARD
END:VTIMEZONE
BEGIN:VEVENT
DTSTART;TZID=America/Kentucky/Louisville:20260505T100000
DTEND;TZID=America/Kentucky/Louisville:20260505T100000
DTSTAMP:20260425T110217
CREATED:20260421T220310Z
LAST-MODIFIED:20260421T220310Z
UID:8991-1777975200-1777975200@www.laruelibrary.org
SUMMARY:Keep Stepping Forward
DESCRIPTION:Keep Stepping Forward is a supportive library program for anyone who has lost a spouse or significant other\, offering a welcoming space for connection\, reflection\, and encouragement. Join us at the library on Tuesday\, May 5th at 10:00 AM to take meaningful steps forward together.
URL:https://www.laruelibrary.org/event/keep-stepping-forward-14/
LOCATION:LaRue County Public Library\, 215 Lincoln Drive\, Hodgenville\, KY\, 42748\, United States
CATEGORIES:Adult,Adult Events
ATTACH;FMTTYPE=image/png:https://www.laruelibrary.org/wp-content/uploads/2026/04/Screenshot-2026-04-21-at-6.01.44-PM.png
END:VEVENT
END:VCALENDAR